BEGIN:VCALENDAR
PRODID:-//eluceo/ical//2.0/EN
VERSION:2.0
CALSCALE:GREGORIAN
BEGIN:VEVENT
UID:f9373c320877b287be931c2a322208a1
DTSTAMP:20260422T155841Z
SUMMARY:Skogen förr och nu
DESCRIPTION:
URL:https://mora.rotary2335.se/sv/agenda/show/15093
DTSTART;TZID=Europe/Zurich:20011203T120000
DTEND;TZID=Europe/Zurich:20011203T120000
LOCATION:Andreasgården\nDalgatan 15\n \nBox 1\n79221 Mora
CATEGORIES:Rotary
END:VEVENT
BEGIN:VTIMEZONE
TZID:Europe/Zurich
BEGIN:STANDARD
DTSTART:20011203T120000
TZNAME:CET
TZOFFSETTO:+0100
TZOFFSETFROM:+0100
END:STANDARD
END:VTIMEZONE
END:VCALENDAR
